BEGIN:VCALENDAR
VERSION:2.0
PRODID:-//Optimum - ECPv6.0.8//NONSGML v1.0//EN
CALSCALE:GREGORIAN
METHOD:PUBLISH
X-ORIGINAL-URL:https://optimum.ie
X-WR-CALDESC:Events for Optimum
REFRESH-INTERVAL;VALUE=DURATION:PT1H
X-Robots-Tag:noindex
X-PUBLISHED-TTL:PT1H
BEGIN:VTIMEZONE
TZID:Europe/Dublin
BEGIN:DAYLIGHT
TZOFFSETFROM:+0000
TZOFFSETTO:+0100
TZNAME:IST
DTSTART:20250330T010000
END:DAYLIGHT
BEGIN:STANDARD
TZOFFSETFROM:+0100
TZOFFSETTO:+0000
TZNAME:GMT
DTSTART:20251026T010000
END:STANDARD
BEGIN:DAYLIGHT
TZOFFSETFROM:+0000
TZOFFSETTO:+0100
TZNAME:IST
DTSTART:20260329T010000
END:DAYLIGHT
BEGIN:STANDARD
TZOFFSETFROM:+0100
TZOFFSETTO:+0000
TZNAME:GMT
DTSTART:20261025T010000
END:STANDARD
END:VTIMEZONE
BEGIN:VEVENT
DTSTART;VALUE=DATE:20250101
DTEND;VALUE=DATE:20270101
DTSTAMP:20260422T031134
CREATED:20230113T180546Z
LAST-MODIFIED:20250829T190227Z
UID:7444-1735689600-1798761599@optimum.ie
SUMMARY:Training Needs Identification & Design QQI Level 6 On Demand Online Programme
DESCRIPTION:Why Choose Optimum?\nAs a preferred choice provider and partner to many of Ireland’s leading businesses\, we have learned that the key to our success is putting your success first. Our commitment to quality is enhanced by the enthusiasm of our team and our recognition of the standards you set. We have been a QQI Accreditated Centre since 2007. We choose content that is relevant to the audience and support the goal of improving competence and confidence. We set criteria to define success and this provides a basis for measuring a return on investment. Optimum Limited provides a unique\, stimulating and enjoyable environment to ensure that each participant achieves their potential \nWhy Training Needs Identification & Design is important?\nMost Human Resource roles\, Training and Consultant roles are responsible for guiding and supporting others in their professional development. Training design and providing collaborative and engaging learning experiences is the foundation of effective training delivery and vital to the long-term impact on each participant. The ability to design great training is crucial to the success of any programme. \n\nCourse Outline\nStructure: Online through MyOptimum e-learning platform with the support of Optimum support personnel. \nDates: This is an ON DEMAND programme. Learners can complete this training award in their own time (within a 10-12 week period) \nQQI Specification: 6N3325 \nWho Should Apply? This course is suited to participants of all experience levels\,  both new and experienced trainers\, consultants and those all involved in learning and development and HRM roles. \nProgression Options: Students who successfully complete this programme may use this Level 6 credit towards the QQI Special Purpose Award Training and Development (6S3372). To view more Major Awards that this programme can lead to\, please contact us directly or visit www.qqi.ie \nWhat happens after when I buy a Ticket: You will receive a ticket receipt and a payment receipt once you have purchased your ticket. The Optimum support team will email you your Moodle login details to access the programme within 24 hours of this purchase. Please check your spam folder or contact hq@optimum.ie if you have not received your login details.  \n \n  \nWhat is QQI? \n \nQuality and Qualifications Ireland (QQI) is the state agency responsible for promoting the quality\, integrity and reputation of the further and higher education system in Ireland. QQI is a combination of the previously operational Further Education and Training Awards Council (FETAC); the Higher Education and Training Awards Council (HETAC); the Irish Universities Quality Board (IUQB) and the National Qualifications Authority of Ireland (NQAI).In the area of qualifications\, they are responsible for maintaining the ten-level NFQ (National Framework of Qualifications).QQI are also an awarding body and set standards for awards we make in the NFQ.
URL:https://optimum.ie/event/training-needs-identification-design-qqi-level-6-award-online/
LOCATION:Online\, MyOptimum E-Learning Platform
CATEGORIES:Career Development,HR/People Development,Management & Team Development,online,QQI,Training
ATTACH;FMTTYPE=image/jpeg:https://optimum.ie/wp-content/uploads/2022/03/managing-people-skills-1000x667-1.jpg
ORGANIZER;CN="Fay%20Harrison":MAILTO:fayh@optimum.ie
END:VEVENT
END:VCALENDAR