BEGIN:VCALENDAR
VERSION:2.0
PRODID:-//Optimum - ECPv6.0.8//NONSGML v1.0//EN
CALSCALE:GREGORIAN
METHOD:PUBLISH
X-ORIGINAL-URL:https://optimum.ie
X-WR-CALDESC:Events for Optimum
REFRESH-INTERVAL;VALUE=DURATION:PT1H
X-Robots-Tag:noindex
X-PUBLISHED-TTL:PT1H
BEGIN:VTIMEZONE
TZID:Europe/Dublin
BEGIN:DAYLIGHT
TZOFFSETFROM:+0000
TZOFFSETTO:+0100
TZNAME:IST
DTSTART:20240331T010000
END:DAYLIGHT
BEGIN:STANDARD
TZOFFSETFROM:+0100
TZOFFSETTO:+0000
TZNAME:GMT
DTSTART:20241027T010000
END:STANDARD
END:VTIMEZONE
BEGIN:VEVENT
DTSTART;TZID=Europe/Dublin:20240529T093000
DTEND;TZID=Europe/Dublin:20240529T123000
DTSTAMP:20260421T213054
CREATED:20240313T122113Z
LAST-MODIFIED:20240313T122409Z
UID:8791-1716975000-1716985800@optimum.ie
SUMMARY:Market Research and Planning Workshop - Live Virtual Zoom
DESCRIPTION:Why Choose Optimum?\nAs a preferred choice provider and partner to many of Ireland’s leading businesses\, we have learned that the key to our success is putting your success first. Our commitment to quality is enhanced by the enthusiasm of our team and our recognition of the standards you set. We choose content that is relevant to the audience and support the goal of improving competence and confidence. We set criteria to define success and this provides a basis for measuring a return on investment.  This presentation skills workshop provides a unique\, stimulating and enjoyable environment to ensure that each participant achieves their potential \nCourse Outline\nStructure: Half Day | Live Virtual Classroom through Zoom  \nTime: 9.30am – 12.30pm \nDates: Wednesday 29th of May 2024 \nWho Should Apply? This training workshop is ideal for entrepreneurs and business owners looking to gain a competitive edge by making data-driven decisions\, as well as marketing and strategy professionals seeking to enhance their skills in market research and planning. Whether you’re starting a new venture or aiming to revitalise an existing business\, this workshop will provide you with invaluable tools and insights to navigate the dynamic business landscape effectively. \nWhat happens after when I buy a Ticket: You will receive a ticket receipt and a payment receipt once you have purchased your ticket. The Optimum support team will email you your Zoom meeting details to access the programme within 24 hours of this purchase. Please check your spam folder or contact hq@optimum.ie if you have not received your login details.  \nOverview – This programme is designed to assist those who are seeking to effectively research their target markets and develop a marketing plan on a limited budget. This programme will demonstrate effective market research tools and techniques. \nThis course will also introduce participants to the key principles of marketing; demonstrate how these can be applied to improve marketing effectiveness and their organisations performance. Participants will gain an understanding of the basis of market segmentation and its effectiveness in meeting market demands. This will lead to increased awareness of the techniques\, terminology and processes involved in developing marketing strategies. \nLearning Objectives –  \n\nGain an in-depth understanding of marketing research\nUnderstand why it is necessary and the positive implications for a business.\nBe able to effectively use various methods of marketing research\nDevelop knowledge of the Methods of Market Research – primary\, secondary\, qualitative\, quantitative\nUnderstood the importance of the Marketing Mix\nHave the tools to analyse the marketing environment and understand market segmentation\nExamine price\, promotional mix and distribution issues\nGain an understanding of cost efficient marketing tools and techniques used to promote a small business\nUnderstand the key components of a Marketing Plan and the need to set specific and timed goals.\n\n 
URL:https://optimum.ie/event/market-research-workshop-live-virtual-zoom-2/
LOCATION:Live Virtual Zoom Classroom
CATEGORIES:Business Excellence,Career Development,online,Training
ATTACH;FMTTYPE=image/jpeg:https://optimum.ie/wp-content/uploads/2023/09/webPics-1.jpg
ORGANIZER;CN="Management":MAILTO:hq@optimum.ie
END:VEVENT
BEGIN:VEVENT
DTSTART;TZID=Europe/Dublin:20240521T093000
DTEND;TZID=Europe/Dublin:20240521T123000
DTSTAMP:20260421T213054
CREATED:20240313T121557Z
LAST-MODIFIED:20240313T122309Z
UID:8788-1716283800-1716294600@optimum.ie
SUMMARY:Business Planning Workshop - Live Virtual Zoom
DESCRIPTION:Why Choose Optimum?\nAs a preferred choice provider and partner to many of Ireland’s leading businesses\, we have learned that the key to our success is putting your success first. Our commitment to quality is enhanced by the enthusiasm of our team and our recognition of the standards you set. We choose content that is relevant to the audience and support the goal of improving competence and confidence. We set criteria to define success and this provides a basis for measuring a return on investment.  This presentation skills workshop provides a unique\, stimulating and enjoyable environment to ensure that each participant achieves their potential \nCourse Outline\nStructure: Half Day | Live Virtual Classroom through Zoom  \nTime: 9.30am – 12.30pm \nDates: Tuesday 21st of May 2024 \nWho Should Apply? This programme is suitable for those considering starting a new business\, or those with a business idea who wish to determine its potential. \nWhat happens after when I buy a Ticket: You will receive a ticket receipt and a payment receipt once you have purchased your ticket. The Optimum support team will email you your Zoom meeting details to access the programme within 24 hours of this purchase. Please check your spam folder or contact hq@optimum.ie if you have not received your login details.  \nOverview – This highly interactive programme provides participants to some basic business concepts in order to commence the business planning process. \nParticipants will gain a deep understanding of the essential elements of effective business planning. From setting clear goals and developing actionable strategies to financial forecasting and risk management\, this workshop equips you with the tools and knowledge to craft a robust business plan that not only guides your organisation’s growth but also secures its future success. \nLearning Objectives –  \n\nIntroduction to Business Plan – what are the key elements?\nCompleting the Business Plans\, Pitfalls to avoid\nUnderstand the purpose of business planning\, examining the business plan information requirements\nUnderstand business modelling using a lean canvas template\nSetting goals and objectives for a winning business plan.\n\n 
URL:https://optimum.ie/event/business-planning-workshop-live-virtual-zoom/
LOCATION:Live Virtual Zoom Classroom
CATEGORIES:Business Excellence,Career Development,online,Training
ATTACH;FMTTYPE=image/jpeg:https://optimum.ie/wp-content/uploads/2023/09/webPics-4.jpg
ORGANIZER;CN="Management":MAILTO:hq@optimum.ie
END:VEVENT
BEGIN:VEVENT
DTSTART;TZID=Europe/Dublin:20240404T100000
DTEND;TZID=Europe/Dublin:20240418T163000
DTSTAMP:20260421T213054
CREATED:20240206T110815Z
LAST-MODIFIED:20240206T111034Z
UID:8512-1712224800-1713457800@optimum.ie
SUMMARY:Coaching Models of Practice QQI Level 6 Programme - Virtual Classroom
DESCRIPTION:Why Choose Optimum?\nAs a preferred choice provider and partner to many of Ireland’s leading businesses\, we have learned that the key to our success is putting your success first. Our commitment to quality is enhanced by the enthusiasm of our team and our recognition of the standards you set. We have been a QQI Accreditated Centre since 2007. We choose content that is relevant to the audience and support the goal of improving competence and confidence. We set criteria to define success and this provides a basis for measuring a return on investment. Optimum Limited provides a unique\, stimulating and enjoyable environment to ensure that each participant achieves their potential \nWhy Coaching Skills are important?\nThis QQI accredited programme is incredibly important in various aspects of life\, from professional settings to personal relationships. These skills enable individuals to effectively guide and support others in achieving their goals and realising their potential. In a professional context\, coaching skills are essential for leaders and managers to empower their teams\, provide constructive feedback\, and facilitate skill development. They enhance communication\, trust\, and collaboration within organisations\, leading to improved employee performance and job satisfaction. \nCourse Outline\nStructure: 4 Days (once a week) | Live Virtual Classrooms via Zoom \nDates: Thursday 4th\, 11th\, 18th April + Skills Assessment Date TBC \nQQI Specification: 6N3087 \nWho Should Apply? This course is suited to participants of all experience levels and to aspiring coaches\, managers\, HR professionals\, educators\, therapists\, business owners\, and individuals seeking personal growth. It offers practical and versatile skills that positively impact both personal and professional aspects of learners’ lives \nProgression Options: Students who successfully complete this programme may use this Level 6 credit towards the QQI Major Business Award (6M4985). To view more Major Awards that this programme can lead to\, please contact us directly or visit www.qqi.ie \nWhat happens after when I buy a Ticket: You will receive a ticket receipt and a payment receipt once you have purchased your ticket. The Optimum support team will email you your Moodle login details to access the programme within 24 hours of this purchase. Please check your spam folder or contact hq@optimum.ie if you have not received your login details.  \n \n  \nWhat is QQI? \n \nQuality and Qualifications Ireland (QQI) is the state agency responsible for promoting the quality\, integrity and reputation of the further and higher education system in Ireland. QQI is a combination of the previously operational Further Education and Training Awards Council (FETAC); the Higher Education and Training Awards Council (HETAC); the Irish Universities Quality Board (IUQB) and the National Qualifications Authority of Ireland (NQAI).In the area of qualifications\, they are responsible for maintaining the ten-level NFQ (National Framework of Qualifications).QQI are also an awarding body and set standards for awards we make in the NFQ.
URL:https://optimum.ie/event/coaching-models-of-practice-qqi-level-6-programme-virtual-classroom/
LOCATION:Online\, MyOptimum E-Learning Platform
CATEGORIES:Career Development,HR/People Development,Management & Team Development,online,QQI,Training
ATTACH;FMTTYPE=image/jpeg:https://optimum.ie/wp-content/uploads/2022/11/Coaching.jpg
ORGANIZER;CN="Management":MAILTO:hq@optimum.ie
END:VEVENT
BEGIN:VEVENT
DTSTART;TZID=Europe/Dublin:20240306T100000
DTEND;TZID=Europe/Dublin:20240320T163000
DTSTAMP:20260421T213054
CREATED:20231010T151107Z
LAST-MODIFIED:20231011T085721Z
UID:8415-1709719200-1710952200@optimum.ie
SUMMARY:Training Delivery and Evaluation QQI Level 6 Programme - Virtual Classroom
DESCRIPTION:Why Choose Optimum?\nAs a preferred choice provider and partner to many of Ireland’s leading businesses\, we have learned that the key to our success is putting your success first. Our commitment to quality is enhanced by the enthusiasm of our team and our recognition of the standards you set. We have been a QQI Accreditated Centre since 2007. We choose content that is relevant to the audience and support the goal of improving competence and confidence. We set criteria to define success and this provides a basis for measuring a return on investment. Optimum Limited provides a unique\, stimulating and enjoyable environment to ensure that each participant achieves their potential \nWhy Training Delivery and Evaluation is important?\nMost Human Resource roles\, Training and Consultant roles are responsible for guiding and supporting others in their professional development. This QQI accredited programme benefits aspiring trainers\, HR professionals\, and organisational development specialists seeking to enhance their skills in talent development and training. It offers practical knowledge and a recognised qualification for anyone interested in the dynamic field of learning and development. Training delivery and evaluation are important to ensure that learning objectives are met and that the effectiveness of the training programme can be assessed and improved. \nCourse Outline\nStructure: 4 Days | Live Virtual Classrooms via Zoom \nDates: Wednesday 6th\, 13th\, 2oth March 2024 + Skills Assessment Date TBC \nQQI Specification: 6N3326 \nWho Should Apply? This course is suited to participants of all experience levels\,  both new and experienced trainers\, consultants and those all involved in learning and development and HRM roles. \nProgression Options: Students who successfully complete this programme may use this Level 6 credit towards the QQI Special Purpose Award Training and Development (6S3372). To view more Major Awards that this programme can lead to\, please contact us directly or visit www.qqi.ie \nWhat happens after when I buy a Ticket: You will receive a ticket receipt and a payment receipt once you have purchased your ticket. The Optimum support team will email you your Moodle login details to access the programme within 24 hours of this purchase. Please check your spam folder or contact hq@optimum.ie if you have not received your login details. \n  \n \n  \nWhat is QQI? \n \nQuality and Qualifications Ireland (QQI) is the state agency responsible for promoting the quality\, integrity and reputation of the further and higher education system in Ireland. QQI is a combination of the previously operational Further Education and Training Awards Council (FETAC); the Higher Education and Training Awards Council (HETAC); the Irish Universities Quality Board (IUQB) and the National Qualifications Authority of Ireland (NQAI).In the area of qualifications\, they are responsible for maintaining the ten-level NFQ (National Framework of Qualifications).QQI are also an awarding body and set standards for awards we make in the NFQ.
URL:https://optimum.ie/event/training-delivery-and-evaluation/
LOCATION:Live Virtual Zoom Classroom
CATEGORIES:Career Development,HR/People Development,Management & Team Development,online,QQI,Training
ATTACH;FMTTYPE=image/jpeg:https://optimum.ie/wp-content/uploads/2023/07/Training_Optimum.jpg
ORGANIZER;CN="Management":MAILTO:hq@optimum.ie
END:VEVENT
BEGIN:VEVENT
DTSTART;TZID=Europe/Dublin:20240206T100000
DTEND;TZID=Europe/Dublin:20240220T163000
DTSTAMP:20260421T213054
CREATED:20231011T091748Z
LAST-MODIFIED:20240206T110155Z
UID:8428-1707213600-1708446600@optimum.ie
SUMMARY:Coaching Models of Practice QQI Level 6 Programme - Virtual Classroom
DESCRIPTION:Why Choose Optimum?\nAs a preferred choice provider and partner to many of Ireland’s leading businesses\, we have learned that the key to our success is putting your success first. Our commitment to quality is enhanced by the enthusiasm of our team and our recognition of the standards you set. We have been a QQI Accreditated Centre since 2007. We choose content that is relevant to the audience and support the goal of improving competence and confidence. We set criteria to define success and this provides a basis for measuring a return on investment. Optimum Limited provides a unique\, stimulating and enjoyable environment to ensure that each participant achieves their potential \nWhy Coaching Skills are important?\nThis QQI accredited programme is incredibly important in various aspects of life\, from professional settings to personal relationships. These skills enable individuals to effectively guide and support others in achieving their goals and realising their potential. In a professional context\, coaching skills are essential for leaders and managers to empower their teams\, provide constructive feedback\, and facilitate skill development. They enhance communication\, trust\, and collaboration within organisations\, leading to improved employee performance and job satisfaction. \nCourse Outline\nStructure: 4 Days (once a week) | Live Virtual Classrooms via Zoom \nDates: Tuesday 6th\, 13th\, 2oth February 2024 + Skills Assessment Date TBC \nQQI Specification: 6N3087 \nWho Should Apply? This course is suited to participants of all experience levels and to aspiring coaches\, managers\, HR professionals\, educators\, therapists\, business owners\, and individuals seeking personal growth. It offers practical and versatile skills that positively impact both personal and professional aspects of learners’ lives \nProgression Options: Students who successfully complete this programme may use this Level 6 credit towards the QQI Major Business Award (6M4985). To view more Major Awards that this programme can lead to\, please contact us directly or visit www.qqi.ie \nWhat happens after when I buy a Ticket: You will receive a ticket receipt and a payment receipt once you have purchased your ticket. The Optimum support team will email you your Moodle login details to access the programme within 24 hours of this purchase. Please check your spam folder or contact hq@optimum.ie if you have not received your login details.  \n \n  \nWhat is QQI? \n \nQuality and Qualifications Ireland (QQI) is the state agency responsible for promoting the quality\, integrity and reputation of the further and higher education system in Ireland. QQI is a combination of the previously operational Further Education and Training Awards Council (FETAC); the Higher Education and Training Awards Council (HETAC); the Irish Universities Quality Board (IUQB) and the National Qualifications Authority of Ireland (NQAI).In the area of qualifications\, they are responsible for maintaining the ten-level NFQ (National Framework of Qualifications).QQI are also an awarding body and set standards for awards we make in the NFQ.
URL:https://optimum.ie/event/coaching-qqi-level-6/
LOCATION:Online\, MyOptimum E-Learning Platform
CATEGORIES:Career Development,HR/People Development,Management & Team Development,online,QQI,Training
ATTACH;FMTTYPE=image/jpeg:https://optimum.ie/wp-content/uploads/2022/11/Coaching.jpg
ORGANIZER;CN="Management":MAILTO:hq@optimum.ie
END:VEVENT
END:VCALENDAR