BEGIN:VCALENDAR
VERSION:2.0
PRODID:-//Optimum - ECPv6.0.8//NONSGML v1.0//EN
CALSCALE:GREGORIAN
METHOD:PUBLISH
X-WR-CALNAME:Optimum
X-ORIGINAL-URL:https://optimum.ie
X-WR-CALDESC:Events for Optimum
REFRESH-INTERVAL;VALUE=DURATION:PT1H
X-Robots-Tag:noindex
X-PUBLISHED-TTL:PT1H
BEGIN:VTIMEZONE
TZID:Europe/Dublin
BEGIN:DAYLIGHT
TZOFFSETFROM:+0000
TZOFFSETTO:+0100
TZNAME:IST
DTSTART:20240331T010000
END:DAYLIGHT
BEGIN:STANDARD
TZOFFSETFROM:+0100
TZOFFSETTO:+0000
TZNAME:GMT
DTSTART:20241027T010000
END:STANDARD
END:VTIMEZONE
BEGIN:VEVENT
DTSTART;TZID=Europe/Dublin:20240308T090000
DTEND;TZID=Europe/Dublin:20240315T123000
DTSTAMP:20260423T052639
CREATED:20231011T090826Z
LAST-MODIFIED:20231011T091124Z
UID:8422-1709888400-1710505800@optimum.ie
SUMMARY:CPD - Coaching for Performance Workshop - Live Virtual Zoom
DESCRIPTION:Why Choose Optimum?\nAs a preferred choice provider and partner to many of Ireland’s leading businesses\, we have learned that the key to our success is putting your success first. Our commitment to quality is enhanced by the enthusiasm of our team and our recognition of the standards you set. We choose content that is relevant to the audience and support the goal of improving competence and confidence. We set criteria to define success and this provides a basis for measuring a return on investment.  This presentation skills workshop provides a unique\, stimulating and enjoyable environment to ensure that each participant achieves their potential \nWhy CPD Coaching and Performance Management Skills are important?\nWhether you’re in high-level management or an administrator\, a CPD coaching and performance management skills training workshop is of paramount importance in today’s professional landscape. It equips individuals and organisations with the essential skills to foster talent development and optimise performance. Coaching enables leaders and managers to provide constructive feedback\, offer guidance\, and empower employees to reach their full potential. Performance management\, on the other hand\, ensures that objectives are met\, and organisational goals are aligned with individual contributions. By investing in this workshop\, organisations can create a culture of continuous improvement\, leading to increased productivity\, employee engagement\, and retention.  \nCourse Outline\nStructure: 2 x Half Days | Live Virtual Classroom through Zoom  \nTime: 9am – 12.30pm \nDates: Friday 8th and 15th of March 2024 \nWho Should Apply? This CPD Coaching and Managing Performance training workshop is suitable for managers\, team leaders\, and human resources professionals looking to enhance their coaching and performance management skills. It is ideal for individuals seeking to engage and motivate their staff effectively while improving overall team productivity. \nWhat happens after when I buy a Ticket: You will receive a ticket receipt and a payment receipt once you have purchased your ticket. The Optimum support team will email you your Zoom meeting details to access the programme within 24 hours of this purchase. Please check your spam folder or contact hq@optimum.ie if you have not received your login details.  \nWho is your Trainer? \n \nLouise Donnelly is a highly experienced professional with over 17 years combined experience as an Executive Coach and Senior Sales Manager in a large multinational. Proven track record of consistently motivating and inspiring individuals to overachieve on their career and personal goals. Louise’s background is a blend of practical business experiences combined with expertise in Executive Coaching\, Team Engagement\, Strengths Coaching\, Motivation\, Change Management\, Performance Management and Career Coaching. Louise holds a BA Degree in Sociology and Economics\, Diploma in Executive and Life Coaching\, Diploma in Professional Coaching Practice and Ethics\, QQI Level 6 Training and Evaluation\, Strengthscope Practioner Certification and a Member of the International Coaching Federation (ICF) \n  \n  \n \nWhat is CPD Standards Office \n\n \nCPD Standards Office (CPDSO) help CPD providers ensure that they are delivering consistently high quality training that is inclusive and collaborative. Their standards of excellence for training and learning providers demonstrate to individual professionals that the learning activity conforms to CPD best practice and is appropriate for inclusion in a formal CPD record. The CPD Standards
URL:https://optimum.ie/event/cpd-coaching-for-performance-workshop-live-virtual-zoom-2/
LOCATION:Live Virtual Zoom Classroom
CATEGORIES:Career Development,CPD,HR/People Development,Management & Team Development,Personal Effectiveness,Training
ATTACH;FMTTYPE=image/jpeg:https://optimum.ie/wp-content/uploads/2023/07/Performance-CPD-1.jpg
ORGANIZER;CN="Management":MAILTO:hq@optimum.ie
END:VEVENT
END:VCALENDAR