BEGIN:VCALENDAR
VERSION:2.0
PRODID:-//Optimum - ECPv6.0.8//NONSGML v1.0//EN
CALSCALE:GREGORIAN
METHOD:PUBLISH
X-WR-CALNAME:Optimum
X-ORIGINAL-URL:https://optimum.ie
X-WR-CALDESC:Events for Optimum
REFRESH-INTERVAL;VALUE=DURATION:PT1H
X-Robots-Tag:noindex
X-PUBLISHED-TTL:PT1H
BEGIN:VTIMEZONE
TZID:Europe/Dublin
BEGIN:DAYLIGHT
TZOFFSETFROM:+0000
TZOFFSETTO:+0100
TZNAME:IST
DTSTART:20240331T010000
END:DAYLIGHT
BEGIN:STANDARD
TZOFFSETFROM:+0100
TZOFFSETTO:+0000
TZNAME:GMT
DTSTART:20241027T010000
END:STANDARD
END:VTIMEZONE
BEGIN:VEVENT
DTSTART;TZID=Europe/Dublin:20240812T100000
DTEND;TZID=Europe/Dublin:20240812T143000
DTSTAMP:20260423T080834
CREATED:20230130T140655Z
LAST-MODIFIED:20240516T125413Z
UID:7515-1723456800-1723473000@optimum.ie
SUMMARY:Interview Skills Workshop - Live Virtual Zoom
DESCRIPTION:Why Choose Optimum?\nAs a preferred choice provider and partner to many of Ireland’s leading businesses\, we have learned that the key to our success is putting your success first. Our commitment to quality is enhanced by the enthusiasm of our team and our recognition of the standards you set. We choose content that is relevant to the audience and support the goal of improving competence and confidence. We set criteria to define success and this provides a basis for measuring a return on investment.  This presentation skills workshop provides a unique\, stimulating and enjoyable environment to ensure that each participant achieves their potential \nWhy Interview Skills are important?\nIn today’s competitive employment world\, it is more important than ever to have strong interviewing skills\, whether you are in high-level management or a school/college graduate. Opportunities are lost if you fail to make a good impression and don’t apply key interview techniques during the process. Optimum Limited are here to help and support every participant gain the job they strive for (no matter the sector or industry).  During this Interview Skills Training\, participants will understand the basis of the competency based interview and the methods that employers use to assess candidates. This course is extremely interactive providing participants with the opportunity to prepare and practice their skills and receive feedback. \nCourse Outline\nStructure: Live Virtual Classroom through Zoom  \nTime: 10am – 2.30pm \nDates: Monday 12th of August 2024 \nWho Should Apply? This programme is suited to participants of all experience levels\, including beginners who have never done an interview and those who wish to progress to the next level of their career.  \nWhat happens after when I buy a Ticket: You will receive a ticket receipt and a payment receipt once you have purchased your ticket. The Optimum support team will email you your Zoom meeting details to access the programme within 24 hours of this purchase. Please check your spam folder or contact hq@optimum.ie if you have not received your login details.  \nWho is your Trainer? \nLouise Burke has in excess of 15 years experience providing high quality\, bespoke training\, consulting and facilitation within all main commercial areas. Her areas of specialisation include Personal Effectiveness\, Managing Performance\, Building High Performance Teams\, HR related topics including Talent Management. She has a natural training and facilitation style that encourages full participation and achieves maximum results. She has worked with companies at all levels\, is a senior Trainer and Mentor to Optimum’s key clients and has a proven track record in delivering superior training delivery and mentoring support. \n  \n  \n 
URL:https://optimum.ie/event/interview-skills-workshop-live-virtual-zoom/
LOCATION:Live Virtual Zoom Classroom
CATEGORIES:Career Development,HR/People Development,Management & Team Development,Personal Effectiveness,Training
ATTACH;FMTTYPE=image/jpeg:https://optimum.ie/wp-content/uploads/2023/01/Untitled-1000-×-667-px-1.jpg
ORGANIZER;CN="Fay%20Harrison":MAILTO:fayh@optimum.ie
END:VEVENT
END:VCALENDAR