BEGIN:VCALENDAR
VERSION:2.0
PRODID:-//Optimum - ECPv6.0.8//NONSGML v1.0//EN
CALSCALE:GREGORIAN
METHOD:PUBLISH
X-ORIGINAL-URL:https://optimum.ie
X-WR-CALDESC:Events for Optimum
REFRESH-INTERVAL;VALUE=DURATION:PT1H
X-Robots-Tag:noindex
X-PUBLISHED-TTL:PT1H
BEGIN:VTIMEZONE
TZID:Europe/Dublin
BEGIN:DAYLIGHT
TZOFFSETFROM:+0000
TZOFFSETTO:+0100
TZNAME:IST
DTSTART:20240331T010000
END:DAYLIGHT
BEGIN:STANDARD
TZOFFSETFROM:+0100
TZOFFSETTO:+0000
TZNAME:GMT
DTSTART:20241027T010000
END:STANDARD
END:VTIMEZONE
BEGIN:VEVENT
DTSTART;TZID=Europe/Dublin:20240123T100000
DTEND;TZID=Europe/Dublin:20240123T163000
DTSTAMP:20260421T213058
CREATED:20231010T150519Z
LAST-MODIFIED:20231011T090407Z
UID:8023-1706004000-1706027400@optimum.ie
SUMMARY:CPD - Communicating With Impact Workshop - Live Virtual Zoom
DESCRIPTION:Why Choose Optimum?\nAs a preferred choice provider and partner to many of Ireland’s leading businesses\, we have learned that the key to our success is putting your success first. Our commitment to quality is enhanced by the enthusiasm of our team and our recognition of the standards you set. We choose content that is relevant to the audience and support the goal of improving competence and confidence. We set criteria to define success and this provides a basis for measuring a return on investment.  This presentation skills workshop provides a unique\, stimulating and enjoyable environment to ensure that each participant achieves their potential \nWhy CPD Communication Skills are important?\nWhether you’re in high-level management or an administrator\, a CPD communication skills training workshop is vital for professionals as it enhances their ability to communicate effectively\, fostering better relationships\, career advancement\, conflict resolution\, and collaboration. It instills confidence\, adapts individuals to new technologies\, and promotes cultural sensitivity\, ensuring they meet ethical standards. Continuous learning through such workshops helps professionals evolve\, stay relevant\, and excel in today’s dynamic work environment. CPD is a vital aspect of any professional’s career. In certain sectors\, governing bodies or regulators establish CPD policies that members must follow. Professionals who operate within regulated environments must maintain CPD records to ensure continued practice. This can be quantified through CPD hours or points\, or evaluated based on outcomes. Engaging in formal CPD activities and documenting them serves as compelling evidence to demonstrate to current or prospective employers that you actively strive to stay updated in your field. \nCourse Outline\nStructure: 1 Day | Live Virtual Classroom through Zoom  \nTime: 10am – 4.30pm \nDates: Tuesday 23rd of January 2024 \nWho Should Apply? This CPD Communication Skills Training Workshop is suitable for professionals in any field\, managers\, sales and customer service representatives\, public speakers\, and individuals looking to improve their personal communication. \nWhat happens after when I buy a Ticket: You will receive a ticket receipt and a payment receipt once you have purchased your ticket. The Optimum support team will email you your Zoom meeting details to access the programme within 24 hours of this purchase. Please check your spam folder or contact hq@optimum.ie if you have not received your login details.  \nWho is your Trainer? \nLouise Burke has in excess of 15+ years experience providing high quality\, bespoke training\, consulting and facilitation within all main commercial areas. Her areas of specialisation include Personal Effectiveness\, Managing Performance\, Building High Performance Teams\, HR related topics including Talent Management. She has a natural training and facilitation style that encourages full participation and achieves maximum results. She has worked with companies at all levels\, is a senior Trainer and Mentor to Optimum’s key clients and has a proven track record in delivering superior training delivery and mentoring support. \n  \n  \n \n  \nWhat is CPD Standards Office \n\n \nCPD Standards Office (CPDSO) help CPD providers ensure that they are delivering consistently high quality training that is inclusive and collaborative. Their standards of excellence for training and learning providers demonstrate to individual professionals that the learning activity conforms to CPD best practice and is appropriate for inclusion in a formal CPD record. The CPD Standards
URL:https://optimum.ie/event/communication-skills-cpd-training/
LOCATION:Live Virtual Zoom Classroom
CATEGORIES:Career Development,Customer Service & Client Relationship Management,HR/People Development,Management & Team Development,Personal Effectiveness,Training
ATTACH;FMTTYPE=image/jpeg:https://optimum.ie/wp-content/uploads/2023/07/Communication-CPD.jpg
ORGANIZER;CN="Management":MAILTO:hq@optimum.ie
END:VEVENT
END:VCALENDAR